BEGIN:VCALENDAR
VERSION:2.0
PRODID:-//ExpressionEngine Easy iCalendar plugin//NONSGML v2.0.1//EN
X-WR-TIMEZONE:America/Denver
X-WR-CALNAME:Upcoming Auctions
BEGIN:VEVENT
UID:50054
DTSTAMP:20200730T090000
DTSTART:20200730T090000
DTEND:20200806T123000
SUMMARY:#20-002D - Utah Department of Transportation (UDOT)
LOCATION:{location}
DESCRIPTION:1765 W 13800 S\, Bluffdale\, UT  840645 .42 Ac.
URL:https://www.udotauctions.utah.gov/auctions/detail/bw50054
SEQUENCE:1
END:VEVENT
END:VCALENDAR