BEGIN:VCALENDAR
VERSION:2.0
PRODID:-//ExpressionEngine Easy iCalendar plugin//NONSGML v2.0.1//EN
X-WR-TIMEZONE:America/Denver
X-WR-CALNAME:Upcoming Auctions
BEGIN:VEVENT
UID:108290
DTSTAMP:20231128T090000
DTSTART:20231128T090000
DTEND:20231205T170000
SUMMARY:#23-024 - Utah Department of Transportation
LOCATION:{location}
DESCRIPTION:Approx. Mile Marker 219 on I-15\, west of I-15\, Nephi\, UT 846
 48
URL:https://www.udotauctions.utah.gov/auctions/detail/bw108290
SEQUENCE:1
END:VEVENT
END:VCALENDAR